BEGIN:VCALENDAR
VERSION:2.0
PRODID:GIGPRESS 2.0 WORDPRESS PLUGIN
CALSCALE:GREGORIAN
X-WR-TIMEZONE:Etc/GMT
METHOD:PUBLISH
BEGIN:VTIMEZONE
TZID:GMT
BEGIN:STANDARD
DTSTART:20071028T010000
TZOFFSETTO:+0000
TZOFFSETFROM:+0000
END:STANDARD
END:VTIMEZONE
BEGIN:VEVENT
SUMMARY:Shameem Taheri-Lee at Salt & Oak
DESCRIPTION:Price: $0.00. Notes: Shameem performs solo on keys\; R&amp\;B/ soul grooves. All Ages/Licensed
LOCATION:Salt & Oak\, 251 W Coast Dr\, North Beach\, AU
UID:20260503T150000Z-300-dave@florenceroad.com
URL:http://www.shameemmusic.com
DTSTART;VALUE=DATE-TIME;TZID=GMT:20260503T150000Z
DTEND;VALUE=DATE-TIME;TZID=GMT:20260503T150000Z
DTSTAMP:20260420T025744Z
END:VEVENT
END:VCALENDAR